BEGIN:VCALENDAR
PRODID:-//Pixl8//Eventfolio//EN
VERSION:2.0
X-WR-TIMEZONE:Europe/London
CALSCALE:GREGORIAN
METHOD:PUBLISH
CLASS:PUBLIC
BEGIN:VTIMEZONE
TZID:Europe/London
LAST-MODIFIED:20260306T231828Z
TZURL:https://www.tzurl.org/zoneinfo-outlook/Europe/London
X-LIC-LOCATION:Europe/London
BEGIN:DAYLIGHT
TZNAME:BST
TZOFFSETFROM:+0000
TZOFFSETTO:+0100
DTSTART:19700329T010000
RRULE:FREQ=YEARLY;BYMONTH=3;BYDAY=-1SU
END:DAYLIGHT
BEGIN:STANDARD
TZNAME:GMT
TZOFFSETFROM:+0100
TZOFFSETTO:+0000
DTSTART:19701025T020000
RRULE:FREQ=YEARLY;BYMONTH=10;BYDAY=-1SU
END:STANDARD
END:VTIMEZONE
BEGIN:VEVENT
DTSTART;TZID=Europe/London:20250716T110000
DTEND;TZID=Europe/London:20250716T120000
DTSTAMP:20260425T142827Z
UID:{3EC5BD57-B7C5-498B-B3C83505C80D9BFB}
LOCATION:Mike Alexander
SUMMARY:Navigating Trade Barriers 
DESCRIPTION:Despite the slowdown for the summer holidays, there’s still plenty happening in the world of customs and international trade.\n
 \n
 Event details: https://sportsandplay.com/ems-event-calendar/navigating-trade-barriers.html
PRIORITY:1
END:VEVENT
END:VCALENDAR