BEGIN:VCALENDAR
PRODID:-//Pixl8//Eventfolio//EN
VERSION:2.0
X-WR-TIMEZONE:Europe/London
CALSCALE:GREGORIAN
METHOD:PUBLISH
CLASS:PUBLIC
BEGIN:VTIMEZONE
TZID:Europe/London
LAST-MODIFIED:20260306T231828Z
TZURL:https://www.tzurl.org/zoneinfo-outlook/Europe/London
X-LIC-LOCATION:Europe/London
BEGIN:DAYLIGHT
TZNAME:BST
TZOFFSETFROM:+0000
TZOFFSETTO:+0100
DTSTART:19700329T010000
RRULE:FREQ=YEARLY;BYMONTH=3;BYDAY=-1SU
END:DAYLIGHT
BEGIN:STANDARD
TZNAME:GMT
TZOFFSETFROM:+0100
TZOFFSETTO:+0000
DTSTART:19701025T020000
RRULE:FREQ=YEARLY;BYMONTH=10;BYDAY=-1SU
END:STANDARD
END:VTIMEZONE
BEGIN:VEVENT
DTSTART;TZID=Europe/London:20260312T100000
DTEND;TZID=Europe/London:20260312T104500
DTSTAMP:20260425T235450Z
UID:{E4CE8B25-6221-4D62-A7BCCF5578735776}
LOCATION:Zoom
SUMMARY:Can You Really Make Google or Social Ads Work?
DESCRIPTION:Paid media advertising can be a powerful way to reach the right people at the right time.\n
 \n
 Event details: https://sportsandplay.com/ems-event-calendar/can-you-really-make-google-or-social-ads-work.html
PRIORITY:1
END:VEVENT
END:VCALENDAR