BEGIN:VCALENDAR
PRODID:-//Pixl8//Eventfolio//EN
VERSION:2.0
X-WR-TIMEZONE:Europe/London
CALSCALE:GREGORIAN
METHOD:PUBLISH
CLASS:PUBLIC
BEGIN:VTIMEZONE
TZID:Europe/London
LAST-MODIFIED:20260306T231828Z
TZURL:https://www.tzurl.org/zoneinfo-outlook/Europe/London
X-LIC-LOCATION:Europe/London
BEGIN:DAYLIGHT
TZNAME:BST
TZOFFSETFROM:+0000
TZOFFSETTO:+0100
DTSTART:19700329T010000
RRULE:FREQ=YEARLY;BYMONTH=3;BYDAY=-1SU
END:DAYLIGHT
BEGIN:STANDARD
TZNAME:GMT
TZOFFSETFROM:+0100
TZOFFSETTO:+0000
DTSTART:19701025T020000
RRULE:FREQ=YEARLY;BYMONTH=10;BYDAY=-1SU
END:STANDARD
END:VTIMEZONE
BEGIN:VEVENT
DTSTART;TZID=Europe/London:20251104T100000
DTEND;TZID=Europe/London:20251104T110000
DTSTAMP:20260425T124241Z
UID:{AE944ECF-3537-4CD3-A55284593E1095A3}
LOCATION:Zoom
SUMMARY:Are your processes making you profitable? (Extra Mile)
DESCRIPTION:In our next webinar – Are Your Processes Making You Profitable? – Managing Director Amanda Brooke will guide you through ensuring your business processes are profitable by utilising the technique of value stream mapping.\n
 \n
 Event details: https://sportsandplay.com/ems-event-calendar/are-your-processes-making-you-profitable-extra-mile.html
PRIORITY:1
END:VEVENT
END:VCALENDAR